BEGIN:VCALENDAR
VERSION:2.0
PRODID:-//francois.damons.eu - ECPv6.9.0//NONSGML v1.0//EN
CALSCALE:GREGORIAN
METHOD:PUBLISH
X-WR-CALNAME:francois.damons.eu
X-ORIGINAL-URL:https://francois.damons.eu
X-WR-CALDESC:Évènements pour francois.damons.eu
REFRESH-INTERVAL;VALUE=DURATION:PT1H
X-Robots-Tag:noindex
X-PUBLISHED-TTL:PT1H
BEGIN:VTIMEZONE
TZID:Europe/Paris
BEGIN:DAYLIGHT
TZOFFSETFROM:+0100
TZOFFSETTO:+0200
TZNAME:CEST
DTSTART:20260329T010000
END:DAYLIGHT
BEGIN:STANDARD
TZOFFSETFROM:+0200
TZOFFSETTO:+0100
TZNAME:CET
DTSTART:20261025T010000
END:STANDARD
END:VTIMEZONE
BEGIN:VEVENT
DTSTART;TZID=Europe/Paris:20260425T070000
DTEND;TZID=Europe/Paris:20260425T090000
DTSTAMP:20260425T015935
CREATED:20260209T125049Z
LAST-MODIFIED:20260209T125049Z
UID:3387-1777100400-1777107600@francois.damons.eu
SUMMARY:Répétition Mons-Chimay-Mons
DESCRIPTION:Spidam 42\nLieux et heures de départ :\nTennis-club 7h00\nBeaumont 9h00\nConsultez whatsapp pour plus de précisions
URL:https://francois.damons.eu/evenement/repetition-mons-chimay-mons-3/
LOCATION:Royal Albert-Elisabeth Club Tennis Mons\, Rue Valenciennoise 29\, Mons\, 7000\, Belgique
CATEGORIES:Sortie Club
END:VEVENT
END:VCALENDAR